BEGIN:VCALENDAR
VERSION:2.0
PRODID:-//Benchmark Professional Seminars, Inc. - ECPv6.15.16.1//NONSGML v1.0//EN
CALSCALE:GREGORIAN
METHOD:PUBLISH
X-WR-CALNAME:Benchmark Professional Seminars, Inc.
X-ORIGINAL-URL:https://benchmarkproseminars.com
X-WR-CALDESC:Events for Benchmark Professional Seminars, Inc.
REFRESH-INTERVAL;VALUE=DURATION:PT1H
X-Robots-Tag:noindex
X-PUBLISHED-TTL:PT1H
BEGIN:VTIMEZONE
TZID:America/New_York
BEGIN:DAYLIGHT
TZOFFSETFROM:-0500
TZOFFSETTO:-0400
TZNAME:EDT
DTSTART:20240310T070000
END:DAYLIGHT
BEGIN:STANDARD
TZOFFSETFROM:-0400
TZOFFSETTO:-0500
TZNAME:EST
DTSTART:20241103T060000
END:STANDARD
BEGIN:DAYLIGHT
TZOFFSETFROM:-0500
TZOFFSETTO:-0400
TZNAME:EDT
DTSTART:20250309T070000
END:DAYLIGHT
BEGIN:STANDARD
TZOFFSETFROM:-0400
TZOFFSETTO:-0500
TZNAME:EST
DTSTART:20251102T060000
END:STANDARD
BEGIN:DAYLIGHT
TZOFFSETFROM:-0500
TZOFFSETTO:-0400
TZNAME:EDT
DTSTART:20260308T070000
END:DAYLIGHT
BEGIN:STANDARD
TZOFFSETFROM:-0400
TZOFFSETTO:-0500
TZNAME:EST
DTSTART:20261101T060000
END:STANDARD
END:VTIMEZONE
BEGIN:VEVENT
DTSTART;TZID=America/New_York:20250724T083000
DTEND;TZID=America/New_York:20250725T163000
DTSTAMP:20260424T165531
CREATED:20250319T145227Z
LAST-MODIFIED:20250319T145227Z
UID:1962-1753345800-1753461000@benchmarkproseminars.com
SUMMARY:First Line Supervision - Jackson Co Sheriff's Office Training Center
DESCRIPTION:HOSTED BY THE JACKSON COUNTY SHERIFF’S OFFICE TRAINING CENTER \n201 Town View Rd Ripley WV \nThis seminar extensively focuses on skills and techniques that new unit supervisors might utilize daily. It is designed for officers with little or no supervisory training who need such a program of study to oversee their unit’s operation effectively. Topics include: \n(1) Supervision as a management tool \n(2) Interpersonal communications \n3) Motivation and leadership skills \n(4) Aspects and models for team building \n(5) Performance appraisal \n(6) The role of the supervisor as trainer and coach \n(7) Use of discipline as a crucial supervisory tool \n(8) Employees with problems and problem employees \n(9) Supervising officers from various backgrounds \n(10) Handling critical incidents within and outside the unit \n(11) Conflict resolution \n\nDATE/LOCATION/TIME:\n \nJuly 24th – 25th \, 2025 \nJackson County Sheriff’s Office Training Center\n201 Town View Rd\nRipley WV \n8:30 a.m. – 4:30 p.m. daily \n  \nREGISTRATION FEE/DISCOUNT RATE: $295 per person.   \nEnroll two agency personnel at $295 per person\, and the third person is enrolled at half-price ($147.50) OR enroll three agency personnel at $295 per person\, and the fourth person is enrolled free. \n  \nREGISTRATION/CANCELLATION POLICY:\n \nComplete the attached registration form and return it with your check or purchase order no later than June 12th\, 2025. You may also fax the form along with your purchase order or order number to 304-381-2084. If you register by fax\, call 681-285-0830 or email info@benchmarkproseminars.com to confirm receipt. MasterCard and VISA accepted for payment. Call 681-285-0830 to register by telephone. Credit card payments are available at paypal.me/benchmarkseminars. \n  \n\n\n                \n                        \n                            Seminar Registration Form ($295 with discounts)\n                             \n                        \n                        Attendee 1*\n                            \n                            \n                                                    \n                                                    First\n                                                \n                            \n                            \n                                                    \n                                                    Last\n                                                \n                            \n                        Attendee 2\n                            \n                            \n                                                    \n                                                    First\n                                                \n                            \n                            \n                                                    \n                                                    Last\n                                                \n                            \n                        Attendee 3\n                            \n                            \n                                                    \n                                                    First\n                                                \n                            \n                            \n                                                    \n                                                    Last\n                                                \n                            \n                        Attendee 4\n                            \n                            \n                                                    \n                                                    First\n                                                \n                            \n                            \n                                                    \n                                                    Last\n                                                \n                            \n                        Agency*Agency Address*    \n                    \n                         \n                                        \n                                        Street Address\n                                    \n                                        \n                                        Address Line 2\n                                    \n                                    \n                                    City\n                                 \n                                        \n                                        State / Province / Region\n                                      \n                                    \n                                    ZIP / Postal Code\n                                \n                    \n                Email Address*\n                            \n                        Daytime Phone*Alternate PhoneFax NumberSeminar Fees*\n			\n				\n				One Attendee\n			\n			\n				\n				Two Attendees\n			\n			\n				\n				Three Attendees (Two at full price; one at 1/2 price)\n			\n			\n				\n				Four Attendees (Three at full price; one free)\n			Total\n							$0.00
URL:https://benchmarkproseminars.com/seminar/first-line-supervision-jackson-co-sheriffs-office-training-center/
LOCATION:Jackson County\, WV Sheriff’s Office Training Center\, 201 Town View Road\, Ripley\, WV
ATTACH;FMTTYPE=image/jpeg:https://benchmarkproseminars.com/wp-content/uploads/2023/10/pexels-kindel-media-7714726-scaled-e1696861020813.jpg
ORGANIZER;CN="Ed Preston":MAILTO:ed@benchmarkproseminars.com
END:VEVENT
BEGIN:VEVENT
DTSTART;TZID=America/New_York:20250707T083000
DTEND;TZID=America/New_York:20250708T163000
DTSTAMP:20260424T165531
CREATED:20250319T144333Z
LAST-MODIFIED:20250319T144422Z
UID:1956-1751877000-1751992200@benchmarkproseminars.com
SUMMARY:Initial Officer Response to Death Scenes - Jackson Co Sheriff's Office Training Center
DESCRIPTION:HOSTED BY THE JACKSON COUNTY SHERIFF’S OFFICE TRAINING CENTER \n201 Town View Rd Ripley WV \nA two-day seminar for patrol personnel who are first to be dispatched or sent to a scene where the death of a person has taken place\, whether by accident\, injury\, homicide\, suicide\, or other means. The program will offer a broad overview regarding the officer’s role and activity at such scenes and stress the importance of the procedure necessary for proper action until those with specific skills in handling the situation might arrive. Topics include: \n(1) Definition and consideration of responsibilities of the first officer on the scene \n(2) Assessing the situation \n(3) Initial identification and interviews of victims\, suspects\, and witnesses \n(4) Proper recording of the situation and pertinent events of the incident \n(5) Protecting and collecting crime scene evidence or other data \n(6) Notify supervisors and other departmental staff of the scene situation. \n  \nDATE/LOCATION/TIME:\n \nJuly 7th -8th \, 2025 \nJackson County Sheriff’s Office Training Center\n201 Town View Rd\nRipley WV \n8:30 a.m. – 4:30 p.m. daily \n  \nREGISTRATION FEE/DISCOUNT RATE: $295 per person.   \nEnroll two agency personnel at $295 per person\, and the third person is enrolled at half-price ($147.50) OR enroll three agency personnel at $295 per person\, and the fourth person is enrolled free. \n  \nREGISTRATION/CANCELLATION POLICY:\n \nComplete the attached registration form and return it with your check or purchase order no later than July 2\, 2025. You may also fax the form along with your purchase order or order number to 304-381-2084. If you register by fax\, call 681-285-0830 or email info@benchmarkproseminars.com to confirm receipt. MasterCard and VISA accepted for payment. Call 681-285-0830 to register by telephone. Credit card payments are available at paypal.me/benchmarkseminars. \n  \n\n                \n                        \n                            Seminar Registration Form ($295 with discounts)\n                             \n                        \n                        Attendee 1*\n                            \n                            \n                                                    \n                                                    First\n                                                \n                            \n                            \n                                                    \n                                                    Last\n                                                \n                            \n                        Attendee 2\n                            \n                            \n                                                    \n                                                    First\n                                                \n                            \n                            \n                                                    \n                                                    Last\n                                                \n                            \n                        Attendee 3\n                            \n                            \n                                                    \n                                                    First\n                                                \n                            \n                            \n                                                    \n                                                    Last\n                                                \n                            \n                        Attendee 4\n                            \n                            \n                                                    \n                                                    First\n                                                \n                            \n                            \n                                                    \n                                                    Last\n                                                \n                            \n                        Agency*Agency Address*    \n                    \n                         \n                                        \n                                        Street Address\n                                    \n                                        \n                                        Address Line 2\n                                    \n                                    \n                                    City\n                                 \n                                        \n                                        State / Province / Region\n                                      \n                                    \n                                    ZIP / Postal Code\n                                \n                    \n                Email Address*\n                            \n                        Daytime Phone*Alternate PhoneFax NumberSeminar Fees*\n			\n				\n				One Attendee\n			\n			\n				\n				Two Attendees\n			\n			\n				\n				Three Attendees (Two at full price; one at 1/2 price)\n			\n			\n				\n				Four Attendees (Three at full price; one free)\n			Total\n							$0.00
URL:https://benchmarkproseminars.com/seminar/initial-officer-response-to-death-scenes-jackson-co-sheriffs-office-training-center/
LOCATION:Jackson County\, WV Sheriff’s Office Training Center\, 201 Town View Road\, Ripley\, WV
ATTACH;FMTTYPE=image/jpeg:https://benchmarkproseminars.com/wp-content/uploads/2020/03/crime-scene-do-not-cross-signage-923681-scaled.jpg
ORGANIZER;CN="Ed Preston":MAILTO:ed@benchmarkproseminars.com
END:VEVENT
BEGIN:VEVENT
DTSTART;TZID=America/New_York:20250619T083000
DTEND;TZID=America/New_York:20250620T163000
DTSTAMP:20260424T165531
CREATED:20250319T135725Z
LAST-MODIFIED:20250319T142706Z
UID:1949-1750321800-1750437000@benchmarkproseminars.com
SUMMARY:Moving up to Supervision - Jackson Co Sheriff's Office Training Center
DESCRIPTION:HOSTED BY THE JACKSON COUNTY SHERIFF’S OFFICE TRAINING CENTER \n201 Town View Rd Ripley WV \nThis is for new\, first-line supervisors or those who expect such an assignment. The program presents information for work situations and will emphasize ideas to aid supervisors in developing sound judgment\, self-reliance\, and resourcefulness. Topics will include: \n(1) The supervisor as a link between management and the workforce \n(2) Skills required to develop professional relationships with subordinates \n(3) Encouraging the growth of subordinates through recurrent evaluations and training \n(4) Discipline and how it reduces stress and builds unit morale \n(5) Employee problems and how they affect productivity and labor-management relations \n(6) Systems approach to supervision\, which includes targeting objectives and monitoring\, measuring\, and appraising subordinate’s performance \n(7) Recognizing and dealing with troubled or troublesome employees. \n\nDATE/LOCATION/TIME:\n \nJune 19th – 20th\, 2025 \nJackson County Sheriff’s Office Training Center\n201 Town View Rd\nRipley WV \n8:30 a.m. – 4:30 p.m. daily \n  \nREGISTRATION FEE/DISCOUNT RATE: $295 per person.   \nEnroll two agency personnel at $295 per person\, and the third person is enrolled at half-price ($147.50) OR enroll three agency personnel at $295 per person\, and the fourth person is enrolled free. \n  \nREGISTRATION/CANCELLATION POLICY:\n \nComplete the attached registration form and return it with your check or purchase order no later than June 12th\, 2025. You may also fax the form along with your purchase order or order number to 304-381-2084. If you register by fax\, call 681-285-0830 or email info@benchmarkproseminars.com to confirm receipt. MasterCard and VISA accepted for payment. Call 681-285-0830 to register by telephone. Credit card payments are available at paypal.me/benchmarkseminars. \n  \n\n                \n                        \n                            Seminar Registration Form ($295 with discounts)\n                             \n                        \n                        Attendee 1*\n                            \n                            \n                                                    \n                                                    First\n                                                \n                            \n                            \n                                                    \n                                                    Last\n                                                \n                            \n                        Attendee 2\n                            \n                            \n                                                    \n                                                    First\n                                                \n                            \n                            \n                                                    \n                                                    Last\n                                                \n                            \n                        Attendee 3\n                            \n                            \n                                                    \n                                                    First\n                                                \n                            \n                            \n                                                    \n                                                    Last\n                                                \n                            \n                        Attendee 4\n                            \n                            \n                                                    \n                                                    First\n                                                \n                            \n                            \n                                                    \n                                                    Last\n                                                \n                            \n                        Agency*Agency Address*    \n                    \n                         \n                                        \n                                        Street Address\n                                    \n                                        \n                                        Address Line 2\n                                    \n                                    \n                                    City\n                                 \n                                        \n                                        State / Province / Region\n                                      \n                                    \n                                    ZIP / Postal Code\n                                \n                    \n                Email Address*\n                            \n                        Daytime Phone*Alternate PhoneFax NumberSeminar Fees*\n			\n				\n				One Attendee\n			\n			\n				\n				Two Attendees\n			\n			\n				\n				Three Attendees (Two at full price; one at 1/2 price)\n			\n			\n				\n				Four Attendees (Three at full price; one free)\n			Total\n							$0.00
URL:https://benchmarkproseminars.com/seminar/moving-up-to-supervision-jackson-co-sheriffs-office-training-center/
LOCATION:Jackson County\, WV Sheriff’s Office Training Center\, 201 Town View Road\, Ripley\, WV
ATTACH;FMTTYPE=image/jpeg:https://benchmarkproseminars.com/wp-content/uploads/2023/10/pexels-kindel-media-7714726-scaled-e1696861020813.jpg
ORGANIZER;CN="Ed Preston":MAILTO:ed@benchmarkproseminars.com
END:VEVENT
BEGIN:VEVENT
DTSTART;TZID=America/New_York:20250602T083000
DTEND;TZID=America/New_York:20250603T163000
DTSTAMP:20260424T165531
CREATED:20250319T144854Z
LAST-MODIFIED:20250325T160238Z
UID:1960-1748853000-1748968200@benchmarkproseminars.com
SUMMARY:Basic Crime Scene Processing - Jackson Co Sheriff's Office Training Center
DESCRIPTION:HOSTED BY THE JACKSON COUNTY SHERIFF’S OFFICE TRAINING CENTER \n201 Town View Rd Ripley WV \nThis is a two-day program\, with the first day devoted to body fluids and the second to trace evidence. \nThe first program is focused on the types of body fluids and their collection and analysis. Topics covered during this session include: \n(1) The scientific basis of body fluid examination\n(2) Blood and bloodstains and their collection\n(3) Seminal stains\n(4) Other types of fluids\, such as saliva\, urine\, and fecal matter\n(5) Fingerprint recovery and preservation. \nThe second day provides discussion in this segment to include: \n(1) Trace evidence associated with clothing\n(2) Recovery of the clothing of the victim\n(3) Cloth fragments and impressions\n(4) Threads\n(5) Fibers\n(6) Hair\n(7) Soils\, rocks\, and minerals; debris. \nDATE/LOCATION/TIME:\n \nJune 2-3\, 2025 \nJackson County Sheriff’s Office Training Center\n201 Town View Rd\nRipley WV \n8:30 a.m. – 4:30 p.m. daily \n  \nREGISTRATION FEE/DISCOUNT RATE: $295 per person.   \nEnroll two agency personnel at $295 per person\, and the third person is enrolled at half-price ($147.50) OR enroll three agency personnel at $295 per person\, and the fourth person is enrolled free. \n  \nREGISTRATION/CANCELLATION POLICY:\n \nComplete the attached registration form and return it with your check or purchase order no later than May 30\, 2025. You may also fax the form along with your purchase order or order number to 304-381-2084. If you register by fax\, call 681-285-0830 or email info@benchmarkproseminars.com to confirm receipt. MasterCard and VISA accepted for payment. Call 681-285-0830 to register by telephone. Credit card payments are available at paypal.me/benchmarkseminars. \n  \n\n                \n                        \n                            Seminar Registration Form ($295 with discounts)\n                             \n                        \n                        Attendee 1*\n                            \n                            \n                                                    \n                                                    First\n                                                \n                            \n                            \n                                                    \n                                                    Last\n                                                \n                            \n                        Attendee 2\n                            \n                            \n                                                    \n                                                    First\n                                                \n                            \n                            \n                                                    \n                                                    Last\n                                                \n                            \n                        Attendee 3\n                            \n                            \n                                                    \n                                                    First\n                                                \n                            \n                            \n                                                    \n                                                    Last\n                                                \n                            \n                        Attendee 4\n                            \n                            \n                                                    \n                                                    First\n                                                \n                            \n                            \n                                                    \n                                                    Last\n                                                \n                            \n                        Agency*Agency Address*    \n                    \n                         \n                                        \n                                        Street Address\n                                    \n                                        \n                                        Address Line 2\n                                    \n                                    \n                                    City\n                                 \n                                        \n                                        State / Province / Region\n                                      \n                                    \n                                    ZIP / Postal Code\n                                \n                    \n                Email Address*\n                            \n                        Daytime Phone*Alternate PhoneFax NumberSeminar Fees*\n			\n				\n				One Attendee\n			\n			\n				\n				Two Attendees\n			\n			\n				\n				Three Attendees (Two at full price; one at 1/2 price)\n			\n			\n				\n				Four Attendees (Three at full price; one free)\n			Total\n							$0.00
URL:https://benchmarkproseminars.com/seminar/basic-crime-scene-processing-jackson-co-sheriffs-office-training-center/
LOCATION:Jackson County\, WV Sheriff’s Office Training Center\, 201 Town View Road\, Ripley\, WV
ATTACH;FMTTYPE=image/jpeg:https://benchmarkproseminars.com/wp-content/uploads/2020/03/crime-scene-do-not-cross-signage-923681-scaled.jpg
ORGANIZER;CN="Ed Preston":MAILTO:ed@benchmarkproseminars.com
END:VEVENT
END:VCALENDAR